BEGIN:VCALENDAR
VERSION:2.0
PRODID:-//WIESE e.V. Selbsthilfeberatung Essen - ECPv6.15.20//NONSGML v1.0//EN
CALSCALE:GREGORIAN
METHOD:PUBLISH
X-WR-CALNAME:WIESE e.V. Selbsthilfeberatung Essen
X-ORIGINAL-URL:https://wiesenetz.de
X-WR-CALDESC:Veranstaltungen für WIESE e.V. Selbsthilfeberatung Essen
REFRESH-INTERVAL;VALUE=DURATION:PT1H
X-Robots-Tag:noindex
X-PUBLISHED-TTL:PT1H
BEGIN:VTIMEZONE
TZID:Europe/Helsinki
BEGIN:DAYLIGHT
TZOFFSETFROM:+0200
TZOFFSETTO:+0300
TZNAME:EEST
DTSTART:20250330T010000
END:DAYLIGHT
BEGIN:STANDARD
TZOFFSETFROM:+0300
TZOFFSETTO:+0200
TZNAME:EET
DTSTART:20251026T010000
END:STANDARD
BEGIN:DAYLIGHT
TZOFFSETFROM:+0200
TZOFFSETTO:+0300
TZNAME:EEST
DTSTART:20260329T010000
END:DAYLIGHT
BEGIN:STANDARD
TZOFFSETFROM:+0300
TZOFFSETTO:+0200
TZNAME:EET
DTSTART:20261025T010000
END:STANDARD
BEGIN:DAYLIGHT
TZOFFSETFROM:+0200
TZOFFSETTO:+0300
TZNAME:EEST
DTSTART:20270328T010000
END:DAYLIGHT
BEGIN:STANDARD
TZOFFSETFROM:+0300
TZOFFSETTO:+0200
TZNAME:EET
DTSTART:20271031T010000
END:STANDARD
END:VTIMEZONE
BEGIN:VEVENT
DTSTART;TZID=Europe/Helsinki:20260519T180000
DTEND;TZID=Europe/Helsinki:20260519T200000
DTSTAMP:20260421T190931
CREATED:20260224T124532Z
LAST-MODIFIED:20260224T124532Z
UID:994-1779213600-1779220800@wiesenetz.de
SUMMARY:Wie gute Ernährung bei Krebs gelingt
DESCRIPTION:Eine Inspiration aus Ernährungsberatung und Selbsthilfe. \nVeranstaltungseinladung herunterladen
URL:https://wiesenetz.de/veranstaltung/wie-gute-ernaehrung-bei-krebs-gelingt/
LOCATION:Krebsberatung Essen\, Camillo-Sitte-Platz 3\, Essen-Süd\, Nordrhein-Westfalen\, 45136\, Germany
ORGANIZER;CN="WIESE e.V.":MAILTO:selbsthilfe@wiesenetz.de
END:VEVENT
BEGIN:VEVENT
DTSTART;TZID=Europe/Helsinki:20260520T170000
DTEND;TZID=Europe/Helsinki:20260520T183000
DTSTAMP:20260421T190931
CREATED:20251216T140407Z
LAST-MODIFIED:20251216T140407Z
UID:884-1779296400-1779301800@wiesenetz.de
SUMMARY:Online-Schnupperstunde - Gruppenangebot zu seelischer Gesundheit
DESCRIPTION:In Zusammenarbeit mit Essener Selbsthilfegruppen \nFür Ihre Teilnahme benötigen wir eine Anmeldung per Mail oder Telefon (0201-207676). Sie erhalten dann von uns die Zugangsdaten.\nDie Videokonferenz ist für Sie kostenlos und findet über Zoom statt. \nDie Plätze sind begrenzt. \nVeranstaltungseinladung herunterladen
URL:https://wiesenetz.de/veranstaltung/online-schnupperstunde-gruppenangebot-zu-seelischer-gesundheit-5/
LOCATION:Virtuell über Zoom
ORGANIZER;CN="WIESE e.V.":MAILTO:selbsthilfe@wiesenetz.de
END:VEVENT
BEGIN:VEVENT
DTSTART;TZID=Europe/Helsinki:20260521T170000
DTEND;TZID=Europe/Helsinki:20260521T183000
DTSTAMP:20260421T190931
CREATED:20260114T171149Z
LAST-MODIFIED:20260114T171149Z
UID:935-1779382800-1779388200@wiesenetz.de
SUMMARY:Erfahrungsaustausch: Adipositas
DESCRIPTION:Veranstaltungseinladung herunterladen
URL:https://wiesenetz.de/veranstaltung/erfahrungsaustausch-adipositas/
LOCATION:Alfried Krupp Krankenhaus\, Alfried-Krupp-Straße 21\, Essen\, 45131\, Germany
ORGANIZER;CN="WIESE e.V.":MAILTO:selbsthilfe@wiesenetz.de
END:VEVENT
END:VCALENDAR